BEGIN:VCALENDAR
VERSION:2.0
PRODID:-//Đám cưới Hiếu - Tuyền - ECPv6.14.0//NONSGML v1.0//EN
CALSCALE:GREGORIAN
METHOD:PUBLISH
X-WR-CALNAME:Đám cưới Hiếu - Tuyền
X-ORIGINAL-URL:https://hieu.shopmientay.xyz
X-WR-CALDESC:Events for Đám cưới Hiếu - Tuyền
REFRESH-INTERVAL;VALUE=DURATION:PT1H
X-Robots-Tag:noindex
X-PUBLISHED-TTL:PT1H
BEGIN:VTIMEZONE
TZID:Asia/Krasnoyarsk
BEGIN:STANDARD
TZOFFSETFROM:+0700
TZOFFSETTO:+0700
TZNAME:+07
DTSTART:20250101T000000
END:STANDARD
END:VTIMEZONE
BEGIN:VEVENT
DTSTART;TZID=Asia/Krasnoyarsk:20251109T080000
DTEND;TZID=Asia/Krasnoyarsk:20251111T170000
DTSTAMP:20260419T210543
CREATED:20250701T000051Z
LAST-MODIFIED:20250705T131648Z
UID:189-1762675200-1762880400@hieu.shopmientay.xyz
SUMMARY:Đám nhà trai
DESCRIPTION:Đám cưới nhà trai
URL:https://hieu.shopmientay.xyz/event/dam-nha-trai/
LOCATION:Phú Thọ\, Đồng Tháp\, 10 Ấp Tân Dinh\, Xã Phú Thọ\, Đồng Tháp\, Viet Nam
END:VEVENT
END:VCALENDAR